BEGIN:VCALENDAR
VERSION:2.0
PRODID:-//Clearwave
CALSCALE:GREGORIAN
METHOD:PUBLISH
X-WR-CALNAME:Clearwave
X-ORIGINAL-URL:https://clearwavesa.co.za/product/power-bi-data-analytics-4/
X-WR-CALDESC:Power BI Data Analytics
BEGIN:VTIMEZONE
TZID:Europe/Helsinki
END:VTIMEZONE
BEGIN:VEVENT
DTSTART;TZID=Europe/Helsinki:20260507T000000
DTEND;TZID=Europe/Helsinki:20260508T000000
DTSTAMP:20260425T102804
UID:2941-admin@clearwavesa.co.za
SUMMARY:Power BI Data Analytics
DESCRIPTION:Build professional Power BI dashboards and analytics solutions from data to insights.
URL:https://clearwavesa.co.za/product/power-bi-data-analytics-4/
LOCATION:Online via Microsoft Teams
END:VEVENT
END:VCALENDAR
